BEGIN:VCALENDAR
VERSION:2.0
PRODID:-//RV Alaska - ECPv6.15.20//NONSGML v1.0//EN
CALSCALE:GREGORIAN
METHOD:PUBLISH
X-WR-CALNAME:RV Alaska
X-ORIGINAL-URL:https://rvalaskacampgrounds.com
X-WR-CALDESC:Events for RV Alaska
REFRESH-INTERVAL;VALUE=DURATION:PT1H
X-Robots-Tag:noindex
X-PUBLISHED-TTL:PT1H
BEGIN:VTIMEZONE
TZID:America/Anchorage
BEGIN:DAYLIGHT
TZOFFSETFROM:-0900
TZOFFSETTO:-0800
TZNAME:AKDT
DTSTART:20170312T110000
END:DAYLIGHT
BEGIN:STANDARD
TZOFFSETFROM:-0800
TZOFFSETTO:-0900
TZNAME:AKST
DTSTART:20171105T100000
END:STANDARD
BEGIN:DAYLIGHT
TZOFFSETFROM:-0900
TZOFFSETTO:-0800
TZNAME:AKDT
DTSTART:20180311T110000
END:DAYLIGHT
BEGIN:STANDARD
TZOFFSETFROM:-0800
TZOFFSETTO:-0900
TZNAME:AKST
DTSTART:20181104T100000
END:STANDARD
BEGIN:DAYLIGHT
TZOFFSETFROM:-0900
TZOFFSETTO:-0800
TZNAME:AKDT
DTSTART:20190310T110000
END:DAYLIGHT
BEGIN:STANDARD
TZOFFSETFROM:-0800
TZOFFSETTO:-0900
TZNAME:AKST
DTSTART:20191103T100000
END:STANDARD
END:VTIMEZONE
BEGIN:VEVENT
DTSTART;TZID=America/Anchorage:20180901T190000
DTEND;TZID=America/Anchorage:20181229T220000
DTSTAMP:20260421T103237
CREATED:20180914T165446Z
LAST-MODIFIED:20180914T172741Z
UID:4629-1535828400-1546120800@rvalaskacampgrounds.com
SUMMARY:Fairbanks traditional Irish Music Session
DESCRIPTION:Come enjoy the fun!  \nWe are a bunch of local musicians who share an interest in traditional celtic music. We meet every Saturday at the Pizza Hut on College Road.
URL:https://rvalaskacampgrounds.com/event/fairbanks-traditional-irish-music-session/
LOCATION:Pizza Hut\, 89 College Road\, Fairbanks\, AK\, 99701\, United States
CATEGORIES:Interior Alaska
END:VEVENT
BEGIN:VEVENT
DTSTART;TZID=America/Anchorage:20180901T100000
DTEND;TZID=America/Anchorage:20181229T120000
DTSTAMP:20260421T103237
CREATED:20180914T180054Z
LAST-MODIFIED:20180914T180054Z
UID:4640-1535796000-1546084800@rvalaskacampgrounds.com
SUMMARY:North Star Strings Adult Strings Music Group
DESCRIPTION:A String Group Just For Fun \nNorth Star Strings welcomes adult violinists\, violists\, cellists and bass players who enjoy playing Broadway show tunes\, light classics\, pops\, Celtic and fiddle music. Meetings are Saturdays from 10:00 am to noon in Music Room 301 at the University of Alaska Fairbanks. There are no auditions and new players are welcome at any time. Players of all abilities are encouraged to come. Music is provided and there is no fee. It’s a fun\, friendly group that has a good time together. \nLast season North Star Strings played at the Downtown Association’s Summer and Winter Solstice Festivals\, the Fairbanks Winter Folk Fest\, weddings\, and social and community events. The group plays without a conductor\, so members are involved in the planning and preparation for performances. \nRecurring weekly on Saturday 10 am until 12 noon.   September 1st until December 29th
URL:https://rvalaskacampgrounds.com/event/north-star-strings-adult-strings-music-group/
LOCATION:UAF – Music Room 301\, The Fine Music complex - 312 Tanana Drive\, Fairbanks\, AK\, United States
CATEGORIES:Interior Alaska
END:VEVENT
BEGIN:VEVENT
DTSTART;VALUE=DATE:20180816
DTEND;VALUE=DATE:20181019
DTSTAMP:20260421T103237
CREATED:20180914T184234Z
LAST-MODIFIED:20180914T184318Z
UID:4660-1534377600-1539907199@rvalaskacampgrounds.com
SUMMARY:Fairbanks Downtown Block party
DESCRIPTION:Come down to 2nd Avenue to hear live music\, browse local art and wares\, taste some of Fairbanks’s finest food\, and visit the shops along 2nd! There are plenty of other festivities happening outside of the closure zone that coincide with the Block Party\, so be sure to meander through the rest of downtown\, as well! \nRecurring monthly on the 3rd Tuesday. August 16th until October 18th 2018. 5pm to 9pm.
URL:https://rvalaskacampgrounds.com/event/fairbanks-downtown-block-party/
LOCATION:2nd Avenue\, between the Lathrop building and Noble Street\, Fairbanks\, AK\, United States
CATEGORIES:Interior Alaska
END:VEVENT
BEGIN:VEVENT
DTSTART;TZID=America/Anchorage:20180706T160000
DTEND;TZID=America/Anchorage:20180914T200000
DTSTAMP:20260421T103237
CREATED:20180914T182812Z
LAST-MODIFIED:20180914T182812Z
UID:4653-1530892800-1536955200@rvalaskacampgrounds.com
SUMMARY:Outdoor Market
DESCRIPTION:New Fairbanks Outdoor Market. Food Trucks and Vendors Welcome. Entertainment! \nRecurring every Friday from July 6th until September 14th 2018. 4pm – 8pm
URL:https://rvalaskacampgrounds.com/event/outdoor-market/
LOCATION:Next to Farmers market\, 2500 College Road\, Fairbanks\, AK\, 99709\, United States
CATEGORIES:Interior Alaska
END:VEVENT
BEGIN:VEVENT
DTSTART;TZID=America/Anchorage:20180705T163000
DTEND;TZID=America/Anchorage:20180927T190000
DTSTAMP:20260421T103237
CREATED:20180914T183512Z
LAST-MODIFIED:20180914T183537Z
UID:4657-1530808200-1538074800@rvalaskacampgrounds.com
SUMMARY:Ester Village Farmers and Craft market
DESCRIPTION:Weekly open air market from July 5th until September 27th
URL:https://rvalaskacampgrounds.com/event/ester-village-farmers-and-craft-market/
LOCATION:Ester Community park\, Fairbanks\, AK\, United States
CATEGORIES:Interior Alaska
END:VEVENT
BEGIN:VEVENT
DTSTART;VALUE=DATE:20180703
DTEND;VALUE=DATE:20180926
DTSTAMP:20260421T103237
CREATED:20180914T181925Z
LAST-MODIFIED:20180914T182103Z
UID:4648-1530576000-1537919999@rvalaskacampgrounds.com
SUMMARY:Southside Community Farmers Market
DESCRIPTION:An outdoor market featuring locally grown and produced food. \nRecurring every Tuesday from July 3rd until September 25th 2018. 4pm until 7pm.
URL:https://rvalaskacampgrounds.com/event/southside-community-farmers-market/
LOCATION:J P Jones Community Center\, 2400 Rickert Street\, Fairbanks\, AK\, 99701\, United States
CATEGORIES:Interior Alaska
END:VEVENT
END:VCALENDAR