BEGIN:VCALENDAR
VERSION:2.0
PRODID:-//RV Alaska - ECPv6.15.20//NONSGML v1.0//EN
CALSCALE:GREGORIAN
METHOD:PUBLISH
X-WR-CALNAME:RV Alaska
X-ORIGINAL-URL:https://rvalaskacampgrounds.com
X-WR-CALDESC:Events for RV Alaska
REFRESH-INTERVAL;VALUE=DURATION:PT1H
X-Robots-Tag:noindex
X-PUBLISHED-TTL:PT1H
BEGIN:VTIMEZONE
TZID:UTC
BEGIN:STANDARD
TZOFFSETFROM:+0000
TZOFFSETTO:+0000
TZNAME:UTC
DTSTART:20150101T000000
END:STANDARD
END:VTIMEZONE
BEGIN:VTIMEZONE
TZID:America/Anchorage
BEGIN:DAYLIGHT
TZOFFSETFROM:-0900
TZOFFSETTO:-0800
TZNAME:AKDT
DTSTART:20170312T110000
END:DAYLIGHT
BEGIN:STANDARD
TZOFFSETFROM:-0800
TZOFFSETTO:-0900
TZNAME:AKST
DTSTART:20171105T100000
END:STANDARD
BEGIN:DAYLIGHT
TZOFFSETFROM:-0900
TZOFFSETTO:-0800
TZNAME:AKDT
DTSTART:20180311T110000
END:DAYLIGHT
BEGIN:STANDARD
TZOFFSETFROM:-0800
TZOFFSETTO:-0900
TZNAME:AKST
DTSTART:20181104T100000
END:STANDARD
BEGIN:DAYLIGHT
TZOFFSETFROM:-0900
TZOFFSETTO:-0800
TZNAME:AKDT
DTSTART:20190310T110000
END:DAYLIGHT
BEGIN:STANDARD
TZOFFSETFROM:-0800
TZOFFSETTO:-0900
TZNAME:AKST
DTSTART:20191103T100000
END:STANDARD
END:VTIMEZONE
BEGIN:VTIMEZONE
TZID:America/Anchorage
BEGIN:DAYLIGHT
TZOFFSETFROM:-0900
TZOFFSETTO:-0800
TZNAME:AKDT
DTSTART:20160313T110000
END:DAYLIGHT
BEGIN:STANDARD
TZOFFSETFROM:-0800
TZOFFSETTO:-0900
TZNAME:AKST
DTSTART:20161106T100000
END:STANDARD
BEGIN:DAYLIGHT
TZOFFSETFROM:-0900
TZOFFSETTO:-0800
TZNAME:AKDT
DTSTART:20170312T110000
END:DAYLIGHT
BEGIN:STANDARD
TZOFFSETFROM:-0800
TZOFFSETTO:-0900
TZNAME:AKST
DTSTART:20171105T100000
END:STANDARD
BEGIN:DAYLIGHT
TZOFFSETFROM:-0900
TZOFFSETTO:-0800
TZNAME:AKDT
DTSTART:20180311T110000
END:DAYLIGHT
BEGIN:STANDARD
TZOFFSETFROM:-0800
TZOFFSETTO:-0900
TZNAME:AKST
DTSTART:20181104T100000
END:STANDARD
END:VTIMEZONE
BEGIN:VEVENT
DTSTART;VALUE=DATE:20180622
DTEND;VALUE=DATE:20180625
DTSTAMP:20260421T093133
CREATED:20160116T074648Z
LAST-MODIFIED:20180104T054806Z
UID:918-1529625600-1529884799@rvalaskacampgrounds.com
SUMMARY:Valdez Rock and Flow Fest
DESCRIPTION:Camping\, bon fires\, raffles\, music\, dancing and of course rock climbing! \n*June 22nd – 24th dates subject to change
URL:https://rvalaskacampgrounds.com/event/valdez-rock-and-flow-fest/
LOCATION:Valdez\, AK\, United States
CATEGORIES:Southcentral Alaska
ATTACH;FMTTYPE=image/png:https://rvalaskacampgrounds.com/wp-content/uploads/2016/01/VRCF.png
END:VEVENT
BEGIN:VEVENT
DTSTART;VALUE=DATE:20180526
DTEND;VALUE=DATE:20181001
DTSTAMP:20260421T093133
CREATED:20180917T203408Z
LAST-MODIFIED:20180917T203408Z
UID:4682-1527292800-1538351999@rvalaskacampgrounds.com
SUMMARY:Homer Farmers Market
DESCRIPTION:Summer outdoor Farmer’s Market\, on the right side of Ocean Drive en route to the Spit\, offers not only fresh produce and art\, but also performing artists on stage. It’s a very pleasant aspect of Homer life. The entertainment ranges from singer/songwriter guitarists\, quartets\, elaborate dance performances to marimba bands to mention a few. In a town so full of talent\, one can always expect an added treat at the Farmer’s Market\, not only in the performing arts but also the wide variety of visual arts. \nLocal truck farmers and gardeners sell the bounty of their fields and green houses motivating friends and neighbors to gather for the pleasure and freshly grown vegetables and fruits as well as to snack on fresh-baked cinnamon buns and bagels to mention a couple of delights\, and enjoy the entertainment. In addition to fresh vegetables and fruit\, some booths also offer such treats as fireweed honey and smoked salmon. \nAbout 100 growers have now installed “tunnels”  (large metal greenhouse-like structures)\, helped by grants from the Natural Resources Conservation Services which covers most of the cost\, to shelter their plantings which has led to much earlier harvests and hence earlier fresh delights at the market. While traditional farmers are likely to stick with the usual\, planting in the ground when it warms up\, the new producers have greatly expanded the growing season\, bringing an amazing amount of food to market in late May despite the lingering winter weather deterring regular planting. \nThe market is open Saturdays from 10 a.m. to 3 p.m. and later in the summer also Wednesdays from 3 p.m. to 6 p.m
URL:https://rvalaskacampgrounds.com/event/homer-farmers-market/
LOCATION:AK
CATEGORIES:Southcentral Alaska
ORGANIZER;CN="Homer Farmers Market":MAILTO:manager@homerfarmersmarket.org
END:VEVENT
BEGIN:VEVENT
DTSTART;VALUE=DATE:20171121
DTEND;VALUE=DATE:20171126
DTSTAMP:20260421T093133
CREATED:20161118T083808Z
LAST-MODIFIED:20180104T074456Z
UID:1797-1511222400-1511654399@rvalaskacampgrounds.com
SUMMARY:GCI Great Alaska Shootout
DESCRIPTION:Get your hoops fix! Host University of Alaska Anchorage takes on top foes in one of the longest-running tournaments in college basketball. \n*This will be the last GCI Great Alaska Shootout: http://www.thenorthernlight.org/40th-gci-great-alaska-shootout-will-conclude-an-anchorage-tradition/
URL:https://rvalaskacampgrounds.com/event/gci-great-alaska-shootout/
LOCATION:Alaska Airlines Center\, 3550 Providence Dr.\, Anchorage\, AK\, 99508\, United States
CATEGORIES:Southcentral Alaska
ATTACH;FMTTYPE=image/jpeg:https://rvalaskacampgrounds.com/wp-content/uploads/2016/11/SIENFNVBVTCASPA.20170824200719.jpg
END:VEVENT
BEGIN:VEVENT
DTSTART;TZID=UTC:20170908T120000
DTEND;TZID=UTC:20170908T140000
DTSTAMP:20260421T093133
CREATED:20170831T031302Z
LAST-MODIFIED:20180815T172257Z
UID:2074-1504872000-1504879200@rvalaskacampgrounds.com
SUMMARY:Ahtna Language Sewing Bag Workshop
DESCRIPTION:Free event sponsored by Chickaloon Village Traditional Council’s Nay’dini’aa Na’ Hwt’aene Ugheldze’ Xuk’anotta Nene’ Project\, Nuture the Land and People Project
URL:https://rvalaskacampgrounds.com/event/ahtna-language-sewing-bag-workshop/
LOCATION:Palmer Museum & Visitor Center\, 723 S. Valley Way\, Palmer\, 99645\, United States
CATEGORIES:Southcentral Alaska
ATTACH;FMTTYPE=image/png:https://rvalaskacampgrounds.com/wp-content/uploads/2017/08/palmer-alaska-event.png
END:VEVENT
BEGIN:VEVENT
DTSTART;VALUE=DATE:20160514
DTEND;VALUE=DATE:20160515
DTSTAMP:20260421T093133
CREATED:20151126T055013Z
LAST-MODIFIED:20180816T001012Z
UID:838-1463184000-1463270399@rvalaskacampgrounds.com
SUMMARY:Petals and Spokes
DESCRIPTION:Support the “City of Flowers” and attend this fun-filled festival in Downtown Anchorage! There will be live music\, VIP wine tasting\, a wine garden\, photo ops\, art\, vendor booths\, flower baskets and more! It’s a great way to welcome summer!
URL:https://rvalaskacampgrounds.com/event/petals-and-spokes/
LOCATION:Anchorage\, AK\, Anchorage\, AK\, United States
CATEGORIES:Southcentral Alaska
ATTACH;FMTTYPE=image/png:https://rvalaskacampgrounds.com/wp-content/uploads/2015/11/Petals-and-Spokes.png
GEO:61.173601;-149.859501
END:VEVENT
END:VCALENDAR