BEGIN:VCALENDAR
VERSION:2.0
PRODID:-//RV Alaska - ECPv6.15.20//NONSGML v1.0//EN
CALSCALE:GREGORIAN
METHOD:PUBLISH
X-WR-CALNAME:RV Alaska
X-ORIGINAL-URL:https://rvalaskacampgrounds.com
X-WR-CALDESC:Events for RV Alaska
REFRESH-INTERVAL;VALUE=DURATION:PT1H
X-Robots-Tag:noindex
X-PUBLISHED-TTL:PT1H
BEGIN:VTIMEZONE
TZID:UTC
BEGIN:STANDARD
TZOFFSETFROM:+0000
TZOFFSETTO:+0000
TZNAME:UTC
DTSTART:20150101T000000
END:STANDARD
END:VTIMEZONE
BEGIN:VTIMEZONE
TZID:America/Anchorage
BEGIN:DAYLIGHT
TZOFFSETFROM:-0900
TZOFFSETTO:-0800
TZNAME:AKDT
DTSTART:20180311T110000
END:DAYLIGHT
BEGIN:STANDARD
TZOFFSETFROM:-0800
TZOFFSETTO:-0900
TZNAME:AKST
DTSTART:20181104T100000
END:STANDARD
BEGIN:DAYLIGHT
TZOFFSETFROM:-0900
TZOFFSETTO:-0800
TZNAME:AKDT
DTSTART:20190310T110000
END:DAYLIGHT
BEGIN:STANDARD
TZOFFSETFROM:-0800
TZOFFSETTO:-0900
TZNAME:AKST
DTSTART:20191103T100000
END:STANDARD
BEGIN:DAYLIGHT
TZOFFSETFROM:-0900
TZOFFSETTO:-0800
TZNAME:AKDT
DTSTART:20200308T110000
END:DAYLIGHT
BEGIN:STANDARD
TZOFFSETFROM:-0800
TZOFFSETTO:-0900
TZNAME:AKST
DTSTART:20201101T100000
END:STANDARD
END:VTIMEZONE
BEGIN:VTIMEZONE
TZID:America/Anchorage
BEGIN:DAYLIGHT
TZOFFSETFROM:-0900
TZOFFSETTO:-0800
TZNAME:AKDT
DTSTART:20180311T110000
END:DAYLIGHT
BEGIN:STANDARD
TZOFFSETFROM:-0800
TZOFFSETTO:-0900
TZNAME:AKST
DTSTART:20181104T100000
END:STANDARD
BEGIN:DAYLIGHT
TZOFFSETFROM:-0900
TZOFFSETTO:-0800
TZNAME:AKDT
DTSTART:20190310T110000
END:DAYLIGHT
BEGIN:STANDARD
TZOFFSETFROM:-0800
TZOFFSETTO:-0900
TZNAME:AKST
DTSTART:20191103T100000
END:STANDARD
BEGIN:DAYLIGHT
TZOFFSETFROM:-0900
TZOFFSETTO:-0800
TZNAME:AKDT
DTSTART:20200308T110000
END:DAYLIGHT
BEGIN:STANDARD
TZOFFSETFROM:-0800
TZOFFSETTO:-0900
TZNAME:AKST
DTSTART:20201101T100000
END:STANDARD
END:VTIMEZONE
BEGIN:VTIMEZONE
TZID:America/Los_Angeles
BEGIN:DAYLIGHT
TZOFFSETFROM:-0800
TZOFFSETTO:-0700
TZNAME:PDT
DTSTART:20170312T100000
END:DAYLIGHT
BEGIN:STANDARD
TZOFFSETFROM:-0700
TZOFFSETTO:-0800
TZNAME:PST
DTSTART:20171105T090000
END:STANDARD
BEGIN:DAYLIGHT
TZOFFSETFROM:-0800
TZOFFSETTO:-0700
TZNAME:PDT
DTSTART:20180311T100000
END:DAYLIGHT
BEGIN:STANDARD
TZOFFSETFROM:-0700
TZOFFSETTO:-0800
TZNAME:PST
DTSTART:20181104T090000
END:STANDARD
BEGIN:DAYLIGHT
TZOFFSETFROM:-0800
TZOFFSETTO:-0700
TZNAME:PDT
DTSTART:20190310T100000
END:DAYLIGHT
BEGIN:STANDARD
TZOFFSETFROM:-0700
TZOFFSETTO:-0800
TZNAME:PST
DTSTART:20191103T090000
END:STANDARD
END:VTIMEZONE
BEGIN:VEVENT
DTSTART;VALUE=DATE:20220804
DTEND;VALUE=DATE:20220808
DTSTAMP:20260421T090932
CREATED:20150314T041342Z
LAST-MODIFIED:20220514T182703Z
UID:313-1659571200-1659916799@rvalaskacampgrounds.com
SUMMARY:Sitka Uncommon Music Festival
DESCRIPTION:The Uncommon Music Festival is an annual chamber music festival in Sitka\, Alaska that promotes an inclusive\, accessible\, and community-oriented vision of classical music. Our core ensemble features an SATB quartet\, a guitarist / lutenist\, and an organist / pianist. Every summer\, we offer one week of free musical events\, from workshops to concerts to walks in the woods.
URL:https://rvalaskacampgrounds.com/event/sitka-summer-music-festival/
LOCATION:Big Lake\, AK\, United States
CATEGORIES:Southeast Alaska
ATTACH;FMTTYPE=image/jpeg:https://rvalaskacampgrounds.com/wp-content/uploads/2015/03/Xtine-SSMF-6-16-17-14-4-800x534.jpg
END:VEVENT
BEGIN:VEVENT
DTSTART;VALUE=DATE:20220611
DTEND;VALUE=DATE:20220612
DTSTAMP:20260421T090932
CREATED:20151201T040342Z
LAST-MODIFIED:20220514T183437Z
UID:861-1654905600-1654991999@rvalaskacampgrounds.com
SUMMARY:Skagway Marathon
DESCRIPTION:Experience the toughest – and most beautiful – marathon in North America. \n*June 9th date subject to change
URL:https://rvalaskacampgrounds.com/event/skagway-marathon/
LOCATION:Big Lake\, AK\, United States
CATEGORIES:Southeast Alaska
ATTACH;FMTTYPE=image/png:https://rvalaskacampgrounds.com/wp-content/uploads/2015/11/SkagwayM.png
END:VEVENT
BEGIN:VEVENT
DTSTART;VALUE=DATE:20220606
DTEND;VALUE=DATE:20220607
DTSTAMP:20260421T090932
CREATED:20160513T013942Z
LAST-MODIFIED:20220311T191631Z
UID:381-1654473600-1654559999@rvalaskacampgrounds.com
SUMMARY:33rd Annual Summer Folk Fest
DESCRIPTION:fairbanksfolkfest.org • fairbanksfolkfest@gmail.com \n*Date is subject to change.
URL:https://rvalaskacampgrounds.com/event/annual-summer-folk-fest/
LOCATION:Ester Community Park\, 3566 Old Nenana Hwy\, Fairbanks\, AK\, 99709\, United States
CATEGORIES:Southeast Alaska
ATTACH;FMTTYPE=image/png:https://rvalaskacampgrounds.com/wp-content/uploads/2015/11/folkFest.png
END:VEVENT
BEGIN:VEVENT
DTSTART;VALUE=DATE:20190817
DTEND;VALUE=DATE:20190818
DTSTAMP:20260421T090932
CREATED:20171221T075355Z
LAST-MODIFIED:20190416T183659Z
UID:2962-1566000000-1566086399@rvalaskacampgrounds.com
SUMMARY:Totem Trot 1/2 Marathon & 5K  Walk/Run Fundraiser
DESCRIPTION:*Dates subject to change: Saturday\, August 17th
URL:https://rvalaskacampgrounds.com/event/totem-trot-1-2-marathon-5k-walk-run-fundraiser/
LOCATION:Haines\, Haines\, AK\, United States
CATEGORIES:Southeast Alaska
ATTACH;FMTTYPE=image/jpeg:https://rvalaskacampgrounds.com/wp-content/uploads/2017/12/totem-trot.jpeg
ORGANIZER;CN="Sheldon Museum":MAILTO:director@sheldonmuseum.net
END:VEVENT
BEGIN:VEVENT
DTSTART;VALUE=DATE:20190802
DTEND;VALUE=DATE:20190805
DTSTAMP:20260421T090932
CREATED:20151201T052822Z
LAST-MODIFIED:20190416T183446Z
UID:890-1564704000-1564963199@rvalaskacampgrounds.com
SUMMARY:44th Annual Blueberry Arts Festival
DESCRIPTION:Featuring lots of contests\, activities\, and vendors. Visit ketchikanarts.org for more information.
URL:https://rvalaskacampgrounds.com/event/blueberry-arts-festival/
LOCATION:Ketchikan Area Arts and Humanities Council\, 330 Main St\, Ketchikan\, AK\, 99901\, United States
CATEGORIES:Southeast Alaska
ATTACH;FMTTYPE=image/png:https://rvalaskacampgrounds.com/wp-content/uploads/2015/11/Blueberry.png
END:VEVENT
BEGIN:VEVENT
DTSTART;VALUE=DATE:20190726
DTEND;VALUE=DATE:20190729
DTSTAMP:20260421T090932
CREATED:20151201T051333Z
LAST-MODIFIED:20190416T182628Z
UID:883-1564099200-1564358399@rvalaskacampgrounds.com
SUMMARY:61st Annual Soldotna Progress Days
DESCRIPTION:Featuring fun for the whole family: parade\, dutch oven competition\, Sawfest Chainsaw Carving Competition\, FREE community picnic and more!
URL:https://rvalaskacampgrounds.com/event/soldotna-progress-days/
LOCATION:Soldotna\, AK\, United States
CATEGORIES:Southeast Alaska
ATTACH;FMTTYPE=image/png:https://rvalaskacampgrounds.com/wp-content/uploads/2015/11/Progress.png
END:VEVENT
BEGIN:VEVENT
DTSTART;VALUE=DATE:20190529
DTEND;VALUE=DATE:20190602
DTSTAMP:20260421T090932
CREATED:20151126T064016Z
LAST-MODIFIED:20221203T180145Z
UID:841-1559088000-1559433599@rvalaskacampgrounds.com
SUMMARY:North Words Writers Symposium
DESCRIPTION:“Exploring the Frontiers of Language” The Northwords Writers Symposium is a chance for writers to come together in a spectacular and intimate setting for 3 days of discussion\, readings and writing. With award winning Keynote Speakers and faculty members the symposium set in our spectacular city is never to disappoint. \nRegistration for the 2023 North Words Writers Symposium is now open. click here \nOpening reception\, train ride and trail write\, cabin retreat cookout and music\, keynote banquet and most meals.
URL:https://rvalaskacampgrounds.com/event/north-words-writers-symposium/
LOCATION:Skagway\, AK\, Skagway\, AK\, United States
CATEGORIES:Southeast Alaska
ATTACH;FMTTYPE=image/png:https://rvalaskacampgrounds.com/wp-content/uploads/2015/11/NWWS.png
GEO:59.459057;-135.31043
END:VEVENT
BEGIN:VEVENT
DTSTART;VALUE=DATE:20190525
DTEND;VALUE=DATE:20190603
DTSTAMP:20260421T090932
CREATED:20150314T040212Z
LAST-MODIFIED:20221203T180739Z
UID:307-1558742400-1559519999@rvalaskacampgrounds.com
SUMMARY:Sitka Salmon Derby
DESCRIPTION:Catch  a prize-winning fish in the sparkling waters of Sitka over the long Memorial Day Weekend and following weekend. Cash and prizes are given out at our award ceremony. \n Memorial Day weekend 2023\nMay 27th\, 28th\, 29th\nJune 3rd and 4th \nThis is a family event with many people in our community and from all over the country that look forward each year to participating in the Derby\, with hopes of catching “the big one”\, or at the very least winning some great prizes. \n 
URL:https://rvalaskacampgrounds.com/event/sitka-salmon-derby/
LOCATION:Big Lake\, AK\, United States
CATEGORIES:Southeast Alaska
ATTACH;FMTTYPE=image/png:https://rvalaskacampgrounds.com/wp-content/uploads/2015/03/Seth-with-Salmon-2.png
END:VEVENT
BEGIN:VEVENT
DTSTART;VALUE=DATE:20190524
DTEND;VALUE=DATE:20190526
DTSTAMP:20260421T090932
CREATED:20180917T204702Z
LAST-MODIFIED:20180917T204702Z
UID:4685-1558656000-1558828799@rvalaskacampgrounds.com
SUMMARY:Great Alaska Craft Beer & Home Brew Festival
DESCRIPTION:The annual Great Alaska Craftbeer and Home Brew Festival\, held each Memorial Day weekend\, is a rite of spring in Haines. The “Haines Beerfest\,” as its known by locals\, is very popular\, and tickets sell out weeks in advance. It kicks off with a gourmet dinner\, where each course includes beer as an ingredient. The following day\, the crowd descends on the Southeast Alaska State Fairgrounds\, where craft beer and homebrew samples abound. The town doesn’t have enough hotel rooms to house all the visitors\, so people camp. The Fort Seward Parade Grounds\, the beach in front of the cruise ship dock\, and Tlingit Park are packed with tents.
URL:https://rvalaskacampgrounds.com/event/great-alaska-craft-beer-home-brew-festival/
LOCATION:Southeast Alaska State Fair Grounds\, Haines\, AK\, 99827\, United States
CATEGORIES:Southeast Alaska
END:VEVENT
BEGIN:VEVENT
DTSTART;VALUE=DATE:20190207
DTEND;VALUE=DATE:20190210
DTSTAMP:20260421T090932
CREATED:20161118T085738Z
LAST-MODIFIED:20180724T072141Z
UID:1812-1549497600-1549756799@rvalaskacampgrounds.com
SUMMARY:Sitka Jazz Festival
DESCRIPTION:Now in its 22nd year\, the Sitka Jazz Festival works to bring professional jazz musicians from around the world to the island community of Sitka\, Alaska to teach\, inspire\, and perform. \nThe Festival strives to teach music appreciation\, skills\, history\, artistic expression\, and cross-cultural understanding through jazz in a supportive environment. Visiting artists and local educators  provide clinics in jazz history\, jazz theory\, and jazz improvisation\, as well as a variety of individual instrument and section-specific workshops. \nStudent performances are non-competitive\, with an emphasis on cooperation and appreciation. Large ensembles perform for adjudication and for the public. \nFor more information\, check out www.sitkajazzfestival.com.
URL:https://rvalaskacampgrounds.com/event/sitka-jazz-festival/
LOCATION:Sitka Jazz Festival\, Sitka\, AK\, United States
CATEGORIES:Southeast Alaska
ATTACH;FMTTYPE=image/jpeg:https://rvalaskacampgrounds.com/wp-content/uploads/2016/11/Sitka-Alaska.jpg
END:VEVENT
BEGIN:VEVENT
DTSTART;VALUE=DATE:20180726
DTEND;VALUE=DATE:20180730
DTSTAMP:20260421T090932
CREATED:20151201T051924Z
LAST-MODIFIED:20180104T052537Z
UID:887-1532563200-1532908799@rvalaskacampgrounds.com
SUMMARY:Southeast Alaska State Fair
DESCRIPTION:Four days of rides\, music\, entertainment\, attractions\, food shopping and much more! \n*July 26th – 29th dates subject to change
URL:https://rvalaskacampgrounds.com/event/southeast-alaska-state-fair/
LOCATION:Haines\, Alaska\, Haines\, AK\, United States
CATEGORIES:Southeast Alaska
ATTACH;FMTTYPE=image/png:https://rvalaskacampgrounds.com/wp-content/uploads/2015/11/Fair.png
END:VEVENT
BEGIN:VEVENT
DTSTART;VALUE=DATE:20180503
DTEND;VALUE=DATE:20180504
DTSTAMP:20260421T090932
CREATED:20150312T033935Z
LAST-MODIFIED:20190416T170710Z
UID:274-1525305600-1525391999@rvalaskacampgrounds.com
SUMMARY:Celebration of the Sea Art Walk
DESCRIPTION:Enjoy art by local artists\, live music\, refreshments\, and fun!
URL:https://rvalaskacampgrounds.com/event/celebration-of-the-sea-art-walk/
LOCATION:Ketchikan Area Arts and Humanities Council\, 330 Main St\, Ketchikan\, AK\, 99901\, United States
CATEGORIES:Southeast Alaska
ATTACH;FMTTYPE=image/png:https://rvalaskacampgrounds.com/wp-content/uploads/2015/03/seawalk.png
END:VEVENT
BEGIN:VEVENT
DTSTART;VALUE=DATE:20180317
DTEND;VALUE=DATE:20180325
DTSTAMP:20260421T090932
CREATED:20161118T090352Z
LAST-MODIFIED:20170909T090048Z
UID:1822-1521244800-1521935999@rvalaskacampgrounds.com
SUMMARY:Swatch Freeride World Tour Haines Alaska 2018
DESCRIPTION:*March 17th – 24th dates subject to change
URL:https://rvalaskacampgrounds.com/event/swatch-freeride-world-tour-haines-alaska-2018/
LOCATION:Haines\, AK\, United States
CATEGORIES:Southeast Alaska
ATTACH;FMTTYPE=image/jpeg:https://rvalaskacampgrounds.com/wp-content/uploads/2016/11/fwt_haines_2017_ddaher-2952_1.jpg
END:VEVENT
BEGIN:VEVENT
DTSTART;VALUE=DATE:20160604
DTEND;VALUE=DATE:20160706
DTSTAMP:20260421T090932
CREATED:20160116T064623Z
LAST-MODIFIED:20160116T065130Z
UID:907-1464998400-1467763199@rvalaskacampgrounds.com
SUMMARY:Sitka Salmon Derby
DESCRIPTION:Think you have what it takes to catch a prize-winning fish? Enjoy fishing in the sparkling waters of Sitka. Cash prizes and more!
URL:https://rvalaskacampgrounds.com/event/sitka-salmon-derby-2/
LOCATION:Sitka\, AK\, United States
CATEGORIES:Southeast Alaska
ATTACH;FMTTYPE=image/png:https://rvalaskacampgrounds.com/wp-content/uploads/2015/03/Seth-with-Salmon-2.png
END:VEVENT
END:VCALENDAR