BEGIN:VCALENDAR
VERSION:2.0
PRODID:-//RV Alaska - ECPv6.15.20//NONSGML v1.0//EN
CALSCALE:GREGORIAN
METHOD:PUBLISH
X-WR-CALNAME:RV Alaska
X-ORIGINAL-URL:https://rvalaskacampgrounds.com
X-WR-CALDESC:Events for RV Alaska
REFRESH-INTERVAL;VALUE=DURATION:PT1H
X-Robots-Tag:noindex
X-PUBLISHED-TTL:PT1H
BEGIN:VTIMEZONE
TZID:America/Anchorage
BEGIN:DAYLIGHT
TZOFFSETFROM:-0900
TZOFFSETTO:-0800
TZNAME:AKDT
DTSTART:20210314T110000
END:DAYLIGHT
BEGIN:STANDARD
TZOFFSETFROM:-0800
TZOFFSETTO:-0900
TZNAME:AKST
DTSTART:20211107T100000
END:STANDARD
BEGIN:DAYLIGHT
TZOFFSETFROM:-0900
TZOFFSETTO:-0800
TZNAME:AKDT
DTSTART:20220313T110000
END:DAYLIGHT
BEGIN:STANDARD
TZOFFSETFROM:-0800
TZOFFSETTO:-0900
TZNAME:AKST
DTSTART:20221106T100000
END:STANDARD
BEGIN:DAYLIGHT
TZOFFSETFROM:-0900
TZOFFSETTO:-0800
TZNAME:AKDT
DTSTART:20230312T110000
END:DAYLIGHT
BEGIN:STANDARD
TZOFFSETFROM:-0800
TZOFFSETTO:-0900
TZNAME:AKST
DTSTART:20231105T100000
END:STANDARD
END:VTIMEZONE
BEGIN:VEVENT
DTSTART;TZID=America/Anchorage:20220612T180000
DTEND;TZID=America/Anchorage:20220612T200000
DTSTAMP:20260419T052500
CREATED:20220518T143707Z
LAST-MODIFIED:20220518T143707Z
UID:12755-1655056800-1655064000@rvalaskacampgrounds.com
SUMMARY:SMF Cruise Concert sponsored by Allen Marine Tours
DESCRIPTION:Join us Sunday\, June 12 from 6:00 – 8:00pm aboard an Allen Marine catamaran for our popular evening cruise concert. The boat departs from the Crescent Harbor Shelter at 6:00pm and returns at 8:00pm.
URL:https://rvalaskacampgrounds.com/event/smf-cruise-concert-sponsored-by-allen-marine-tours/
LOCATION:Crescent Harbor Shelter\, Sitka\, AK\, AK 99835\, United States
ATTACH;FMTTYPE=image/jpeg:https://rvalaskacampgrounds.com/wp-content/uploads/2022/05/allenmarine.jpeg
ORGANIZER;CN="Sitka Music Festival":MAILTO:info@sitkamusicfestival.org
GEO:57.050696419194;-135.33196150399
END:VEVENT
END:VCALENDAR