BEGIN:VCALENDAR
VERSION:2.0
PRODID:-//RV Alaska - ECPv6.15.20//NONSGML v1.0//EN
CALSCALE:GREGORIAN
METHOD:PUBLISH
X-ORIGINAL-URL:https://rvalaskacampgrounds.com
X-WR-CALDESC:Events for RV Alaska
REFRESH-INTERVAL;VALUE=DURATION:PT1H
X-Robots-Tag:noindex
X-PUBLISHED-TTL:PT1H
BEGIN:VTIMEZONE
TZID:UTC
BEGIN:STANDARD
TZOFFSETFROM:+0000
TZOFFSETTO:+0000
TZNAME:UTC
DTSTART:20220101T000000
END:STANDARD
END:VTIMEZONE
BEGIN:VEVENT
DTSTART;VALUE=DATE:20230525
DTEND;VALUE=DATE:20230530
DTSTAMP:20260421T032932
CREATED:20150314T035146Z
LAST-MODIFIED:20221202T143721Z
UID:302-1684972800-1685404799@rvalaskacampgrounds.com
SUMMARY:Kodiak Crab Festival
DESCRIPTION:WHAT IS KODIAK CRAB FESTIVAL?\n\n\n\n\nThe Kodiak Crab Festival is produced annually by the Kodiak Chamber of Commerce for the benefit of the residents of Kodiak\, Alaska. Crab Fest is a time for the community to celebrate the abundant resources that we recieve from the sea. \nIt is the intent of the Chamber of Commerce\, Crab Festival Manager and the Crab Festival Committee to coordinate a variety of family oriented activities that will provide men\, women and children a festive and fun recreational outlet. \nFor the Kodiak business person and local non-profit\, the Crab Festival is intended to provide a boost in tourism to enhance their business/organization and assist as a fundraising opportunity to raise needed revenues. \n\n\nFive days of festivities peppered with traditional and quirky tournaments\, games\, races and competitions. The festival is held Thursday\, Friday\, Saturday\, Sunday\, ending on Memorial Day. Locally\, the festival symbolizes the end of winter and the highly anticipated return of summer\, bringing with it long days\, the salmon runs and lots of fun. \n\nThe Norm Holm Survival Suit Race begins with a race down the dock to put on survival suits then swimming through the harbor into a life raft.\nCoast Guard demonstrations in the harbor include helicopters and rescue swimmers.\nCrab Festival Art Show\nKodiak Fish Toss\nMarathon & Half Marathon\n\n\nBlessing of the Fleet: The traditional blessing of the fleet is open to all vessels. A service is sung followed by an Orthodox priest sprinkling each passing vessel with Holy Water.\n\n\nCrab Fest Parade on Saturday morning features old cars\, military\, 4H\, school bands and Harleys.
URL:https://rvalaskacampgrounds.com/event/kodiak-crab-festival/
LOCATION:Kodiak Chamber of Commerce\, 100 E Marine Way #300\, Kodiak\, AK\, 99615\, United States
CATEGORIES:Southcentral Alaska
ATTACH;FMTTYPE=image/jpeg:https://rvalaskacampgrounds.com/wp-content/uploads/2015/03/CVB_Creditted_Photos-01-n8vp4a.jpeg
ORGANIZER;CN="Kodiak Chamber of Commerce":MAILTO:chamber@kodiak.org
END:VEVENT
END:VCALENDAR