BEGIN:VCALENDAR
VERSION:2.0
PRODID:-//RV Alaska - ECPv6.15.20//NONSGML v1.0//EN
CALSCALE:GREGORIAN
METHOD:PUBLISH
X-ORIGINAL-URL:https://rvalaskacampgrounds.com
X-WR-CALDESC:Events for RV Alaska
REFRESH-INTERVAL;VALUE=DURATION:PT1H
X-Robots-Tag:noindex
X-PUBLISHED-TTL:PT1H
BEGIN:VTIMEZONE
TZID:America/Anchorage
BEGIN:DAYLIGHT
TZOFFSETFROM:-0900
TZOFFSETTO:-0800
TZNAME:AKDT
DTSTART:20210314T110000
END:DAYLIGHT
BEGIN:STANDARD
TZOFFSETFROM:-0800
TZOFFSETTO:-0900
TZNAME:AKST
DTSTART:20211107T100000
END:STANDARD
BEGIN:DAYLIGHT
TZOFFSETFROM:-0900
TZOFFSETTO:-0800
TZNAME:AKDT
DTSTART:20220313T110000
END:DAYLIGHT
BEGIN:STANDARD
TZOFFSETFROM:-0800
TZOFFSETTO:-0900
TZNAME:AKST
DTSTART:20221106T100000
END:STANDARD
BEGIN:DAYLIGHT
TZOFFSETFROM:-0900
TZOFFSETTO:-0800
TZNAME:AKDT
DTSTART:20230312T110000
END:DAYLIGHT
BEGIN:STANDARD
TZOFFSETFROM:-0800
TZOFFSETTO:-0900
TZNAME:AKST
DTSTART:20231105T100000
END:STANDARD
END:VTIMEZONE
BEGIN:VEVENT
DTSTART;TZID=America/Anchorage:20220601T180000
DTEND;TZID=America/Anchorage:20220601T210000
DTSTAMP:20260419T052737
CREATED:20220322T182951Z
LAST-MODIFIED:20220322T182951Z
UID:12533-1654106400-1654117200@rvalaskacampgrounds.com
SUMMARY:LEVITT AMP SOLDOTNA MUSIC SERIES
DESCRIPTION:Summer Wednesday evenings in Soldotna are times that everyone looks forward to. That’s when the famous—and free!—Levitt AMP Soldotna Music Series takes place in the beautiful Soldotna Creek Park. It happens weekly from June through August\, and on top of catching some great music\, it’s a fantastic chance to meet locals. \nAnd there will be plenty of locals! On a sunny day\, up to 2\,000 people might turn out for the show\, coming in from as far away as Homer. Of course\, plenty of visitors join in the fun as well. Each week\, the music kicks off at 6 p.m. with an opening act—usually a local band; then there’s a headliner\, who may be regional or national\, who plays until 9 p.m. It’s 3 full hours of music! And there’s a thrilling diversity of genres. The full schedule is released each April\, so you can see who’s playing when. \nThe music follows Soldotna’s Wednesday Market\, where you can enjoy food and peruse crafts for sale from all over the state. Then transition into the evening. Adults can enjoy the lively beer garden\, and kids can engage with activities on the lawn\, which might include a drum session on buckets or an art project. Then get ready for the music! (And BYO lawn chair.) \nThis popular community gathering may feel like it has a long history\, but it’s relatively new. It was a director of the Soldotna Chamber of Commerce—a music lover—who created this event in 2015\, as the perfect add-on to the Wednesday Market. And since 2019\, the music series has partnered with Levitt AMP through the Levitt Foundation to help build community with free\, live music in public spaces. \nThe music series has been an amazing success. In addition to a wide variety of music\, you’ll find a diverse group of people—from Alaskan old-timers to business professionals and families. The event is also a magnet\, gathering people in the heart of town and giving everyone a common connection. And you can feel even more like a part of the community by volunteering to help out with things like set up/tear down\, counting the crowds\, or walking around with donation buckets. However you decide to experience this music fest\, it’s an event not to be missed!
URL:https://rvalaskacampgrounds.com/event/levitt-amp-soldotna-music-series/2022-06-01/
LOCATION:Soldotna Creek Park\, Alaska
ATTACH;FMTTYPE=image/jpeg:https://rvalaskacampgrounds.com/wp-content/uploads/2022/03/Laura-Rhyner-Levitt-AMP2-alaska-untitled.jpeg
GEO:60.4838057;-151.0646879
END:VEVENT
END:VCALENDAR