BEGIN:VCALENDAR
VERSION:2.0
PRODID:-//RV Alaska - ECPv6.15.20//NONSGML v1.0//EN
CALSCALE:GREGORIAN
METHOD:PUBLISH
X-WR-CALNAME:RV Alaska
X-ORIGINAL-URL:https://rvalaskacampgrounds.com
X-WR-CALDESC:Events for RV Alaska
REFRESH-INTERVAL;VALUE=DURATION:PT1H
X-Robots-Tag:noindex
X-PUBLISHED-TTL:PT1H
BEGIN:VTIMEZONE
TZID:America/Anchorage
BEGIN:DAYLIGHT
TZOFFSETFROM:-0900
TZOFFSETTO:-0800
TZNAME:AKDT
DTSTART:20210314T110000
END:DAYLIGHT
BEGIN:STANDARD
TZOFFSETFROM:-0800
TZOFFSETTO:-0900
TZNAME:AKST
DTSTART:20211107T100000
END:STANDARD
BEGIN:DAYLIGHT
TZOFFSETFROM:-0900
TZOFFSETTO:-0800
TZNAME:AKDT
DTSTART:20220313T110000
END:DAYLIGHT
BEGIN:STANDARD
TZOFFSETFROM:-0800
TZOFFSETTO:-0900
TZNAME:AKST
DTSTART:20221106T100000
END:STANDARD
BEGIN:DAYLIGHT
TZOFFSETFROM:-0900
TZOFFSETTO:-0800
TZNAME:AKDT
DTSTART:20230312T110000
END:DAYLIGHT
BEGIN:STANDARD
TZOFFSETFROM:-0800
TZOFFSETTO:-0900
TZNAME:AKST
DTSTART:20231105T100000
END:STANDARD
END:VTIMEZONE
BEGIN:VEVENT
DTSTART;VALUE=DATE:20220401
DTEND;VALUE=DATE:20220402
DTSTAMP:20260419T050225
CREATED:20220311T200408Z
LAST-MODIFIED:20220311T200408Z
UID:12521-1648771200-1648857599@rvalaskacampgrounds.com
SUMMARY:Valdez Bike Dash
DESCRIPTION:Ride around stunning icebergs on the frozen glacier lake on Saturday and rip down a snowy mountainside Sunday! There will be plenty of room for spectators. \n\n 
URL:https://rvalaskacampgrounds.com/event/valdez-bike-dash/
LOCATION:Valdez\, Valdez\, Alaska
END:VEVENT
END:VCALENDAR